BEGIN:VCALENDAR
VERSION:2.0
PRODID:-//Odyssée du Colibri - ECPv6.15.20//NONSGML v1.0//EN
CALSCALE:GREGORIAN
METHOD:PUBLISH
X-ORIGINAL-URL:https://www.odyssee-colibri.fr
X-WR-CALDESC:Évènements pour Odyssée du Colibri
REFRESH-INTERVAL;VALUE=DURATION:PT1H
X-Robots-Tag:noindex
X-PUBLISHED-TTL:PT1H
BEGIN:VTIMEZONE
TZID:Europe/Paris
BEGIN:DAYLIGHT
TZOFFSETFROM:+0100
TZOFFSETTO:+0200
TZNAME:CEST
DTSTART:20230326T010000
END:DAYLIGHT
BEGIN:STANDARD
TZOFFSETFROM:+0200
TZOFFSETTO:+0100
TZNAME:CET
DTSTART:20231029T010000
END:STANDARD
BEGIN:DAYLIGHT
TZOFFSETFROM:+0100
TZOFFSETTO:+0200
TZNAME:CEST
DTSTART:20240331T010000
END:DAYLIGHT
BEGIN:STANDARD
TZOFFSETFROM:+0200
TZOFFSETTO:+0100
TZNAME:CET
DTSTART:20241027T010000
END:STANDARD
BEGIN:DAYLIGHT
TZOFFSETFROM:+0100
TZOFFSETTO:+0200
TZNAME:CEST
DTSTART:20250330T010000
END:DAYLIGHT
BEGIN:STANDARD
TZOFFSETFROM:+0200
TZOFFSETTO:+0100
TZNAME:CET
DTSTART:20251026T010000
END:STANDARD
END:VTIMEZONE
BEGIN:VEVENT
DTSTART;TZID=Europe/Paris:20240717T140000
DTEND;TZID=Europe/Paris:20240717T170000
DTSTAMP:20260425T185222
CREATED:20240419T124628Z
LAST-MODIFIED:20240531T130245Z
UID:17428-1721224800-1721235600@www.odyssee-colibri.fr
SUMMARY:Atelier Sensibilisation
DESCRIPTION:Sensibilisation\n\n\n\n\n\n\n\n\n\nFormat : Distanciel\nDurée : 3h\nPublic : tous\n\n\n\n  \nDéroulé de l’atelier conseil-action \n\n\nAu cours de cet atelier\, vous créez collectivement une cartographie du paysage de la RSE et de la Durabilité. Vous travaillez à distance en groupe et sous-groupe pour appréhender les grands enjeux et comprendre les liens entre les différents sujets concernant votre métier de professionnel du chiffre (experts-comptables\, commissaires aux comptes\, directeur finance\, contrôleur de gestion). \nObjectif pédagogique \nA la fin de l’atelier\, vous reconnaitrez les différentes situations et les niveaux de maturité de votre interlocuteur face à la question de la durabilité pour sensibiliser autour de vous (clients\, collaborateurs\, associés…) \n  \nSe préinscrire
URL:https://www.odyssee-colibri.fr/evenement/atelier-sensibilisation-2/
LOCATION:Visio\, lien Teams
ATTACH;FMTTYPE=image/jpeg:https://www.odyssee-colibri.fr/wp-content/uploads/2024/05/site_conference_2-min.jpg
ORGANIZER;CN="Orianne Champon":MAILTO:orianne.champon@odyssee-colibri.com
END:VEVENT
BEGIN:VEVENT
DTSTART;TZID=Europe/Paris:20240724T140000
DTEND;TZID=Europe/Paris:20240724T170000
DTSTAMP:20260425T185222
CREATED:20240419T070057Z
LAST-MODIFIED:20240514T045641Z
UID:17243-1721829600-1721840400@www.odyssee-colibri.fr
SUMMARY:Atelier Sensibilisation
DESCRIPTION:Sensibilisation\n\n\n\n\n\nFormat : Distanciel\nDurée : 3h\nPublic : tous\n\n\n\n  \nDéroulé de l’atelier conseil-action \n\n\nAu cours de cet atelier\, vous créez collectivement une cartographie du paysage de la RSE et de la Durabilité. Vous travaillez à distance en groupe et sous-groupe pour appréhender les grands enjeux et comprendre les liens entre les différents sujets concernant votre métier de professionnel du chiffre (experts-comptables\, commissaires aux comptes\, directeur finance\, contrôleur de gestion). \nObjectif pédagogique \nA la fin de l’atelier\, vous reconnaitrez les différentes situations et les niveaux de maturité de votre interlocuteur face à la question de la durabilité pour sensibiliser autour de vous (clients\, collaborateurs\, associés…) \n  \nSe préinscrire
URL:https://www.odyssee-colibri.fr/evenement/sensibilisation/
LOCATION:Visio\, lien Teams
ATTACH;FMTTYPE=image/jpeg:https://www.odyssee-colibri.fr/wp-content/uploads/2024/05/site_conference_2-min.jpg
ORGANIZER;CN="Orianne Champon":MAILTO:orianne.champon@odyssee-colibri.com
END:VEVENT
END:VCALENDAR