BEGIN:VCALENDAR
VERSION:2.0
PRODID:-//Odyssée du Colibri - ECPv6.15.20//NONSGML v1.0//EN
CALSCALE:GREGORIAN
METHOD:PUBLISH
X-WR-CALNAME:Odyssée du Colibri
X-ORIGINAL-URL:https://www.odyssee-colibri.fr
X-WR-CALDESC:Évènements pour Odyssée du Colibri
REFRESH-INTERVAL;VALUE=DURATION:PT1H
X-Robots-Tag:noindex
X-PUBLISHED-TTL:PT1H
BEGIN:VTIMEZONE
TZID:Europe/Paris
BEGIN:DAYLIGHT
TZOFFSETFROM:+0100
TZOFFSETTO:+0200
TZNAME:CEST
DTSTART:20230326T010000
END:DAYLIGHT
BEGIN:STANDARD
TZOFFSETFROM:+0200
TZOFFSETTO:+0100
TZNAME:CET
DTSTART:20231029T010000
END:STANDARD
BEGIN:DAYLIGHT
TZOFFSETFROM:+0100
TZOFFSETTO:+0200
TZNAME:CEST
DTSTART:20240331T010000
END:DAYLIGHT
BEGIN:STANDARD
TZOFFSETFROM:+0200
TZOFFSETTO:+0100
TZNAME:CET
DTSTART:20241027T010000
END:STANDARD
BEGIN:DAYLIGHT
TZOFFSETFROM:+0100
TZOFFSETTO:+0200
TZNAME:CEST
DTSTART:20250330T010000
END:DAYLIGHT
BEGIN:STANDARD
TZOFFSETFROM:+0200
TZOFFSETTO:+0100
TZNAME:CET
DTSTART:20251026T010000
END:STANDARD
END:VTIMEZONE
BEGIN:VEVENT
DTSTART;VALUE=DATE:20240906
DTEND;VALUE=DATE:20240907
DTSTAMP:20260425T155534
CREATED:20240419T124312Z
LAST-MODIFIED:20240514T045709Z
UID:17424-1725580800-1725667199@www.odyssee-colibri.fr
SUMMARY:Atelier Eclairage
DESCRIPTION:Eclairage\n\n\n\n\n\n\n\n\n\n\n\n\n\nFormat : Présentiel\nDurée : 1 journée\nPublic : tous\n\n\n\n\n\nDéroulé de l’atelier conseil-action \nAu cours de cet atelier\, vous explorez différents univers de la RSE : compréhension du marché\, des acteurs\, des métiers\, des définitions\, des angles de vue. \nVous travaillez en présentiel en groupe et sous-groupe pour identifier vos axes d’action et prioriser à court terme et moyen terme vos prochains pas au regard des enjeux liés à votre structure d’exercice professionnel\, vos attentes et vos motivations. \nObjectif pédagogique \n\n\n\n\nA l’issue de l’atelier\, vous comprendrez les différentes actions possibles pour le professionnel pour intégrer la durabilité dans son cœur de métier. \n  \nSe préinscrire
URL:https://www.odyssee-colibri.fr/evenement/atelier-eclairage/
LOCATION:Paris\, Paris\, 75000\, France
ATTACH;FMTTYPE=image/jpeg:https://www.odyssee-colibri.fr/wp-content/uploads/2024/05/site-equipe_ensemble_4-min.jpg
ORGANIZER;CN="Orianne Champon":MAILTO:orianne.champon@odyssee-colibri.com
END:VEVENT
BEGIN:VEVENT
DTSTART;VALUE=DATE:20240920
DTEND;VALUE=DATE:20240921
DTSTAMP:20260425T155534
CREATED:20240419T145136Z
LAST-MODIFIED:20240514T045811Z
UID:17511-1726790400-1726876799@www.odyssee-colibri.fr
SUMMARY:Atelier RSE en interne
DESCRIPTION:RSE en interne\n\n\n\n\n\n\n\n\n\n\n\n\n\n\nFormat : Présentiel\nDurée : 1 journée\nPublic : tous\n\nDéroulé de l’atelier-action \nAu cours de cet atelier\, vous travaillez sous-groupe pour appréhender les grands enjeux de la démarche RSE pour un cabinet grâce au jeu que nous avons conçu pour vous projeter dans une dynamique d’action. \n  \nObjectif pédagogique \nA la fin de l’atelier\, vous serez en mesure d’actionner les leviers d’une démarche RSE au sein de votre cabinet pour embarquer vos équipes \n  \nSe préinscrire
URL:https://www.odyssee-colibri.fr/evenement/rse-interne/
LOCATION:Paris\, Paris\, 75000\, France
ATTACH;FMTTYPE=image/jpeg:https://www.odyssee-colibri.fr/wp-content/uploads/2024/05/site_equipe_partage_souriant-min.jpg
ORGANIZER;CN="Orianne Champon":MAILTO:orianne.champon@odyssee-colibri.com
END:VEVENT
END:VCALENDAR